BEGIN:VCALENDAR
METHOD:PUBLISH
VERSION:2.0
PRODID:-//WoltLab GmbH//WoltLab Suite Calendar 5.4//EN
CALSCALE:GREGORIAN
X-WR-CALNAME;VALUE=TEXT:Community Treffen Berlin
BEGIN:VEVENT
TRANSP:OPAQUE
UID:event-8@kackboard.com
URL:https://kackboard.com/calendar/event/652-community-treffen-berlin/
DTSTART:20180811T170000Z
DTSTAMP:20180811T170000Z
CREATED:20180811T170000Z
SUMMARY:Community Treffen Berlin
DESCRIPTION:In alter Tradition möchten wir auch hier die Menschen wieder an
  einem Ort zusammenbringen.\nSommer in Berlin ist das Motto.
LOCATION:Berlin Charlottenburg
GEO:52.5169983;13.3999996
DTEND:20180811T210000Z
CATEGORIES:Community,Stammtisch,Communitytreffen
END:VEVENT
END:VCALENDAR
