BEGIN:VCALENDAR
METHOD:PUBLISH
VERSION:2.0
PRODID:-//WoltLab GmbH//WoltLab Suite Calendar 5.4//EN
CALSCALE:GREGORIAN
X-WR-CALNAME;VALUE=TEXT:Stammtisch Berlin
BEGIN:VEVENT
TRANSP:OPAQUE
UID:event-34@kackboard.com
URL:https://kackboard.com/calendar/event/1678-stammtisch-berlin/
DTSTART:20250809T150000Z
DTSTAMP:20250809T150000Z
CREATED:20250809T150000Z
SUMMARY:Stammtisch Berlin
DESCRIPTION:Nach langer Zeit machen GeileMaus [URL:https://kackboard.com/us
 er/34-geilemaus/] und meine Wenigkeit [URL:https://kackboard.com/user/7-mid
 lifepunk/] einen erneuten Versuch einen Stammtisch in Berlin zu veranstalte
 n.\n\nWir erwarten eine gewisse Beteiligung und verbindliche Zusagen\, sons
 t macht uns das keinen Spaß und die Maus wird die Reise nach Berlin nicht a
 ntreten..\n\nDas Thema dazu und Anmeldung: Stammtisch Berlin am 09.08.2025 
 [URL:https://kackboard.com/forum/thread/13908-stammtisch-berlin-am-09-08-20
 25/]\n\nDanke!
DTEND:20250809T215900Z
CATEGORIES:Stammtisch,berlin,Stammtisch Berlin
END:VEVENT
END:VCALENDAR
